BEGIN:VCALENDAR
VERSION:2.0
PRODID:hinto.net
X-PUBLISHED-TTL:P1W
BEGIN:VEVENT
UID:hinto.net-event_show-6925724
DTSTART:20260425T201500
SEQUENCE:0
CREATED:20260419T052321
LAST-MODIFIED:20260419T052321
TRANSP:OPAQUE

LOCATION:Pont Rouge
SUMMARY:Myrath
CLASS:PUBLIC
DESCRIPTION:
ORGANIZER:
DTSTAMP:20260419T213656
ATTACH:https://www.hinto.ch/de/events/myrath-25-04-2026-2015-pont-rouge-monthey-e2847665-20.html
END:VEVENT
END:VCALENDAR
