BEGIN:VCALENDAR
VERSION:2.0
PRODID:hinto.net
X-PUBLISHED-TTL:P1W
BEGIN:VEVENT
UID:hinto.net-event_show-6863827
DTSTART:20260419T201500
SEQUENCE:0
CREATED:20260419T135536
LAST-MODIFIED:20260419T135536
TRANSP:OPAQUE
DTEND:20260419T215500
LOCATION:
SUMMARY:Nickelodeon / CC: Der Chor - Stimmen des Herzens
CLASS:PUBLIC
DESCRIPTION:
ORGANIZER:
DTSTAMP:20260420T171728
ATTACH:https://www.hinto.ch/de/events/nickelodeon-cc-der-chor-stimmen-des-herzens-19-04-2026-2015-e2794443-20.html
END:VEVENT
END:VCALENDAR
