BEGIN:VCALENDAR
VERSION:2.0
PRODID:hinto.net
X-PUBLISHED-TTL:P1W
BEGIN:VEVENT
UID:hinto.net-event_show-6436859
DTSTART:20261003T110000
SEQUENCE:0
CREATED:20251113T044326
LAST-MODIFIED:20251113T044326
TRANSP:OPAQUE
DTEND:20261003T120000
LOCATION:Schloss Thun
SUMMARY:Öffentliche Schlossführung
CLASS:PUBLIC
DESCRIPTION:
ORGANIZER:
DTSTAMP:20260424T165507
ATTACH:https://www.hinto.ch/de/events/oeffentliche-schlossfuehrung-03-10-2026-1100-schloss-thun-thun-e2405563-20.html
END:VEVENT
END:VCALENDAR
