BEGIN:VCALENDAR
VERSION:2.0
PRODID:hinto.net
X-PUBLISHED-TTL:P1W
BEGIN:VEVENT
UID:hinto.net-event_show-6862815
DTSTART:20260419T191500
SEQUENCE:0
CREATED:20260329T151027
LAST-MODIFIED:20260329T151027
TRANSP:OPAQUE
DTEND:20260419T195100
LOCATION:
SUMMARY:ORF 1: Fussball Bundesliga
CLASS:PUBLIC
DESCRIPTION:
ORGANIZER:
DTSTAMP:20260421T063144
ATTACH:https://www.hinto.ch/de/events/orf-1-fussball-bundesliga-19-04-2026-1915-e2793431-20.html
END:VEVENT
END:VCALENDAR
