BEGIN:VCALENDAR
VERSION:2.0
PRODID:hinto.net
X-PUBLISHED-TTL:P1W
BEGIN:VEVENT
UID:hinto.net-event_show-6862811
DTSTART:20260419T161000
SEQUENCE:0
CREATED:20260329T151024
LAST-MODIFIED:20260329T151024
TRANSP:OPAQUE
DTEND:20260419T161500
LOCATION:
SUMMARY:ORF 1: ZIB Flash
CLASS:PUBLIC
DESCRIPTION:
ORGANIZER:
DTSTAMP:20260420T063915
ATTACH:https://www.hinto.ch/de/events/orf-1-zib-flash-19-04-2026-1610-e2793427-20.html
END:VEVENT
END:VCALENDAR
