BEGIN:VCALENDAR
VERSION:2.0
PRODID:hinto.net
X-PUBLISHED-TTL:P1W
BEGIN:VEVENT
UID:hinto.net-event_show-6728845
DTSTART:20260710T173000
SEQUENCE:0
CREATED:20260219T042122
LAST-MODIFIED:20260219T042122
TRANSP:OPAQUE

LOCATION:Neumünster Kirche
SUMMARY:Orgelserenade
CLASS:PUBLIC
DESCRIPTION:
ORGANIZER:
DTSTAMP:20260420T231509
ATTACH:https://www.hinto.ch/de/events/orgelserenade-10-07-2026-1730-neumuenster-kirche-zuerich-e2691707-20.html
END:VEVENT
END:VCALENDAR
