BEGIN:VCALENDAR
VERSION:2.0
PRODID:hinto.net
X-PUBLISHED-TTL:P1W
BEGIN:VEVENT
UID:hinto.net-event_show-6822926
DTSTART:20260314T000000
SEQUENCE:0
CREATED:20260316T102923
LAST-MODIFIED:20260316T102923
TRANSP:OPAQUE
DTEND:20260517T000000
LOCATION:Fri-Art
SUMMARY:Passages
CLASS:PUBLIC
DESCRIPTION:
ORGANIZER:
DTSTAMP:20260424T065014
ATTACH:https://www.hinto.ch/de/events/passages-14-03-2026-0000-fri-art-fribourg-e2760454-20.html
END:VEVENT
END:VCALENDAR
