BEGIN:VCALENDAR
VERSION:2.0
PRODID:hinto.net
X-PUBLISHED-TTL:P1W
BEGIN:VEVENT
UID:hinto.net-event_show-6663774
DTSTART:20260930T203000
SEQUENCE:0
CREATED:20260128T032412
LAST-MODIFIED:20260128T032412
TRANSP:OPAQUE

LOCATION:Werk 1
SUMMARY:Pinot Gris
CLASS:PUBLIC
DESCRIPTION:
ORGANIZER:
DTSTAMP:20260421T063200
ATTACH:https://www.hinto.ch/de/events/pinot-gris-30-09-2026-2030-werk-1-gossau-sg-e2634095-20.html
END:VEVENT
END:VCALENDAR
