BEGIN:VCALENDAR
VERSION:2.0
PRODID:hinto.net
X-PUBLISHED-TTL:P1W
BEGIN:VEVENT
UID:hinto.net-event_show-6767540
DTSTART:20260417T220000
SEQUENCE:0
CREATED:20260303T025900
LAST-MODIFIED:20260303T025900
TRANSP:OPAQUE

LOCATION:Plaza
SUMMARY:Plaze to be
CLASS:PUBLIC
DESCRIPTION:
ORGANIZER:
DTSTAMP:20260424T164544
ATTACH:https://www.hinto.ch/de/events/plaze-to-be-17-04-2026-2200-plaza-zuerich-e2724214-20.html
END:VEVENT
END:VCALENDAR
