BEGIN:VCALENDAR
VERSION:2.0
PRODID:hinto.net
X-PUBLISHED-TTL:P1W
BEGIN:VEVENT
UID:hinto.net-event_show-6867473
DTSTART:20260419T120500
SEQUENCE:0
CREATED:20260331T202152
LAST-MODIFIED:20260331T202152
TRANSP:OPAQUE
DTEND:20260419T123000
LOCATION:
SUMMARY:Puls 8: Family Guy
CLASS:PUBLIC
DESCRIPTION:
ORGANIZER:
DTSTAMP:20260419T215647
ATTACH:https://www.hinto.ch/de/events/puls-8-family-guy-19-04-2026-1205-e2797441-20.html
END:VEVENT
END:VCALENDAR
