BEGIN:VCALENDAR
VERSION:2.0
PRODID:hinto.net
X-PUBLISHED-TTL:P1W
BEGIN:VEVENT
UID:hinto.net-event_show-5037669
DTSTART:20271010T100000
SEQUENCE:0
CREATED:20241010T075121
LAST-MODIFIED:20241010T075121
TRANSP:OPAQUE
DTEND:20271010T170000
LOCATION:Schweizer Kindermuseum
SUMMARY:Rakete, Mond und Sterne
CLASS:PUBLIC
DESCRIPTION:
ORGANIZER:
DTSTAMP:20260424T150834
ATTACH:https://www.hinto.ch/de/events/rakete-mond-und-sterne-10-10-2027-1000-schweizer-kindermuseum-baden-e72056-20.html
END:VEVENT
END:VCALENDAR
