BEGIN:VCALENDAR
VERSION:2.0
PRODID:hinto.net
X-PUBLISHED-TTL:P1W
BEGIN:VEVENT
UID:hinto.net-event_show-6525138
DTSTART:20260926T150000
SEQUENCE:0
CREATED:20251213T031912
LAST-MODIFIED:20251213T031912
TRANSP:OPAQUE

LOCATION:Kula
SUMMARY:Richards Kindermusikladen
CLASS:PUBLIC
DESCRIPTION:
ORGANIZER:
DTSTAMP:20260420T002932
ATTACH:https://www.hinto.ch/de/events/richards-kindermusikladen-26-09-2026-1500-kula-konstanz-e2514008-20.html
END:VEVENT
END:VCALENDAR
