BEGIN:VCALENDAR
VERSION:2.0
PRODID:hinto.net
X-PUBLISHED-TTL:P1W
BEGIN:VEVENT
UID:hinto.net-event_show-6867407
DTSTART:20260419T121500
SEQUENCE:0
CREATED:20260403T104029
LAST-MODIFIED:20260403T104029
TRANSP:OPAQUE
DTEND:20260419T131000
LOCATION:
SUMMARY:RTL II: X-Factor: Das Unfassbare
CLASS:PUBLIC
DESCRIPTION:
ORGANIZER:
DTSTAMP:20260420T084652
ATTACH:https://www.hinto.ch/de/events/rtl-ii-x-factor-das-unfassbare-19-04-2026-1215-e2797375-20.html
END:VEVENT
END:VCALENDAR
