BEGIN:VCALENDAR
VERSION:2.0
PRODID:hinto.net
X-PUBLISHED-TTL:P1W
BEGIN:VEVENT
UID:hinto.net-event_show-6898979
DTSTART:20260419T160500
SEQUENCE:0
CREATED:20260411T042915
LAST-MODIFIED:20260411T042915
TRANSP:OPAQUE
DTEND:20260419T164654
LOCATION:
SUMMARY:RTS 1: Hudson et Rex
CLASS:PUBLIC
DESCRIPTION:
ORGANIZER:
DTSTAMP:20260420T010635
ATTACH:https://www.hinto.ch/de/events/rts-1-hudson-et-rex-19-04-2026-1605-e2824377-20.html
END:VEVENT
END:VCALENDAR
