BEGIN:VCALENDAR
VERSION:2.0
PRODID:hinto.net
X-PUBLISHED-TTL:P1W
BEGIN:VEVENT
UID:hinto.net-event_show-6862634
DTSTART:20260419T201000
SEQUENCE:0
CREATED:20260329T150004
LAST-MODIFIED:20260329T150004
TRANSP:OPAQUE
DTEND:20260419T205800
LOCATION:
SUMMARY:RTS 1: Mise au point
CLASS:PUBLIC
DESCRIPTION:
ORGANIZER:
DTSTAMP:20260420T071524
ATTACH:https://www.hinto.ch/de/events/rts-1-mise-au-point-19-04-2026-2010-e2793250-20.html
END:VEVENT
END:VCALENDAR
