BEGIN:VCALENDAR
VERSION:2.0
PRODID:hinto.net
X-PUBLISHED-TTL:P1W
BEGIN:VEVENT
UID:hinto.net-event_show-6313760
DTSTART:20260926T120000
SEQUENCE:0
CREATED:20251002T110438
LAST-MODIFIED:20251002T110438
TRANSP:OPAQUE
DTEND:20260926T040000
LOCATION:Stadthalle Chur
SUMMARY:Schlagerparade Chur
CLASS:PUBLIC
DESCRIPTION:
ORGANIZER:
DTSTAMP:20260424T055714
ATTACH:https://www.hinto.ch/de/events/schlagerparade-chur-26-09-2026-1200-stadthalle-chur-chur-e1218015-20.html
END:VEVENT
END:VCALENDAR
