BEGIN:VCALENDAR
VERSION:2.0
PRODID:hinto.net
X-PUBLISHED-TTL:P1W
BEGIN:VEVENT
UID:hinto.net-event_show-6933139
DTSTART:20260429T160000
SEQUENCE:0
CREATED:20260422T051921
LAST-MODIFIED:20260422T051921
TRANSP:OPAQUE
DTEND:20260617T155100
LOCATION:Café Kafka
SUMMARY:Schreibcafé
CLASS:PUBLIC
DESCRIPTION:
ORGANIZER:
DTSTAMP:20260424T182539
ATTACH:https://www.hinto.ch/de/events/schreibcafe-29-04-2026-1600-cafe-kafka-basel-e2243013-20.html
END:VEVENT
END:VCALENDAR
