BEGIN:VCALENDAR
VERSION:2.0
PRODID:hinto.net
X-PUBLISHED-TTL:P1W
BEGIN:VEVENT
UID:hinto.net-event_show-6912619
DTSTART:20260605T180000
SEQUENCE:0
CREATED:20260415T030632
LAST-MODIFIED:20260415T030632
TRANSP:OPAQUE
DTEND:20260605T000000
LOCATION:Bank Thalwil
SUMMARY:Shared Reading
CLASS:PUBLIC
DESCRIPTION:
ORGANIZER:
DTSTAMP:20260419T215653
ATTACH:https://www.hinto.ch/de/events/shared-reading-05-06-2026-1800-bank-thalwil-thalwil-e2836590-20.html
END:VEVENT
END:VCALENDAR
