BEGIN:VCALENDAR
VERSION:2.0
PRODID:hinto.net
X-PUBLISHED-TTL:P1W
BEGIN:VEVENT
UID:hinto.net-event_show-6925489
DTSTART:20260505T190000
SEQUENCE:0
CREATED:20260419T052234
LAST-MODIFIED:20260419T052234
TRANSP:OPAQUE

LOCATION:K9
SUMMARY:Sister Rising
CLASS:PUBLIC
DESCRIPTION:
ORGANIZER:
DTSTAMP:20260419T220409
ATTACH:https://www.hinto.ch/de/events/sister-rising-05-05-2026-1900-k9-konstanz-e2847539-20.html
END:VEVENT
END:VCALENDAR
