BEGIN:VCALENDAR
VERSION:2.0
PRODID:hinto.net
X-PUBLISHED-TTL:P1W
BEGIN:VEVENT
UID:hinto.net-event_show-6924971
DTSTART:20260524T170000
SEQUENCE:0
CREATED:20260419T051939
LAST-MODIFIED:20260419T051939
TRANSP:OPAQUE

LOCATION:Chössi-Theater
SUMMARY:Spind’l … Sp’ich’r — Still‘
CLASS:PUBLIC
DESCRIPTION:
ORGANIZER:
DTSTAMP:20260424T132946
ATTACH:https://www.hinto.ch/de/events/spindrlthtsprichrrtmtstilll-24-05-2026-1700-choessi-theater-lichtensteig-e2847253-20.html
END:VEVENT
END:VCALENDAR
