BEGIN:VCALENDAR
VERSION:2.0
PRODID:hinto.net
X-PUBLISHED-TTL:P1W
BEGIN:VEVENT
UID:hinto.net-event_show-6922252
DTSTART:20260419T020000
SEQUENCE:0
CREATED:20260418T113200
LAST-MODIFIED:20260418T113200
TRANSP:OPAQUE
DTEND:20260419T020500
LOCATION:
SUMMARY:SRF info: Meteo
CLASS:PUBLIC
DESCRIPTION:
ORGANIZER:
DTSTAMP:20260419T142312
ATTACH:https://www.hinto.ch/de/events/srf-info-meteo-19-04-2026-0200-e2844779-20.html
END:VEVENT
END:VCALENDAR
