BEGIN:VCALENDAR
VERSION:2.0
PRODID:hinto.net
X-PUBLISHED-TTL:P1W
BEGIN:VEVENT
UID:hinto.net-event_show-6901539
DTSTART:20260417T005500
SEQUENCE:0
CREATED:20260414T154203
LAST-MODIFIED:20260414T154203
TRANSP:OPAQUE
DTEND:20260417T015500
LOCATION:
SUMMARY:SRF zwei: Sykora Gisler – Der Fussball-Talk
CLASS:PUBLIC
DESCRIPTION:
ORGANIZER:
DTSTAMP:20260420T084911
ATTACH:https://www.hinto.ch/de/events/srf-zwei-sykora-gisler-n-der-fussball-talk-17-04-2026-0055-e2826937-20.html
END:VEVENT
END:VCALENDAR
