BEGIN:VCALENDAR
VERSION:2.0
PRODID:hinto.net
X-PUBLISHED-TTL:P1W
BEGIN:VEVENT
UID:hinto.net-event_show-6728828
DTSTART:20260417T203000
SEQUENCE:0
CREATED:20260219T042106
LAST-MODIFIED:20260219T042106
TRANSP:OPAQUE

LOCATION:Sternenkeller
SUMMARY:Stella Cruz
CLASS:PUBLIC
DESCRIPTION:
ORGANIZER:
DTSTAMP:20260421T003824
ATTACH:https://www.hinto.ch/de/events/stella-cruz-17-04-2026-2030-sternenkeller-rueti-zh-e2691690-20.html
END:VEVENT
END:VCALENDAR
