BEGIN:VCALENDAR
VERSION:2.0
PRODID:hinto.net
X-PUBLISHED-TTL:P1W
BEGIN:VEVENT
UID:hinto.net-event_show-6863684
DTSTART:20260419T201500
SEQUENCE:0
CREATED:20260329T155553
LAST-MODIFIED:20260329T155553
TRANSP:OPAQUE
DTEND:20260419T212000
LOCATION:
SUMMARY:Super RTL: Lucifer
CLASS:PUBLIC
DESCRIPTION:
ORGANIZER:
DTSTAMP:20260420T051034
ATTACH:https://www.hinto.ch/de/events/super-rtl-lucifer-19-04-2026-2015-e2794300-20.html
END:VEVENT
END:VCALENDAR
