BEGIN:VCALENDAR
VERSION:2.0
PRODID:hinto.net
X-PUBLISHED-TTL:P1W
BEGIN:VEVENT
UID:hinto.net-event_show-6863668
DTSTART:20260419T161500
SEQUENCE:0
CREATED:20260418T065314
LAST-MODIFIED:20260418T065314
TRANSP:OPAQUE
DTEND:20260419T162500
LOCATION:
SUMMARY:Super RTL: SpongeBob Schwammkopf
CLASS:PUBLIC
DESCRIPTION:
ORGANIZER:
DTSTAMP:20260419T234113
ATTACH:https://www.hinto.ch/de/events/super-rtl-spongebob-schwammkopf-19-04-2026-1615-e2794284-20.html
END:VEVENT
END:VCALENDAR
