BEGIN:VCALENDAR
VERSION:2.0
PRODID:hinto.net
X-PUBLISHED-TTL:P1W
BEGIN:VEVENT
UID:hinto.net-event_show-6925951
DTSTART:20260419T165400
SEQUENCE:0
CREATED:20260419T151157
LAST-MODIFIED:20260419T151157
TRANSP:OPAQUE
DTEND:20260419T183500
LOCATION:
SUMMARY:Swiss1: Die Bergretter
CLASS:PUBLIC
DESCRIPTION:
ORGANIZER:
DTSTAMP:20260419T234046
ATTACH:https://www.hinto.ch/de/events/swiss1-die-bergretter-19-04-2026-1654-e2847891-20.html
END:VEVENT
END:VCALENDAR
