BEGIN:VCALENDAR
VERSION:2.0
PRODID:hinto.net
X-PUBLISHED-TTL:P1W
BEGIN:VEVENT
UID:hinto.net-event_show-6863728
DTSTART:20260419T161500
SEQUENCE:0
CREATED:20260329T155720
LAST-MODIFIED:20260329T155720
TRANSP:OPAQUE
DTEND:20260419T170000
LOCATION:
SUMMARY:SWR: Hausnummer Lecker
CLASS:PUBLIC
DESCRIPTION:
ORGANIZER:
DTSTAMP:20260420T083402
ATTACH:https://www.hinto.ch/de/events/swr-hausnummer-lecker-19-04-2026-1615-e2794344-20.html
END:VEVENT
END:VCALENDAR
