BEGIN:VCALENDAR
VERSION:2.0
PRODID:hinto.net
X-PUBLISHED-TTL:P1W
BEGIN:VEVENT
UID:hinto.net-event_show-6942261
DTSTART:20260703T180000
SEQUENCE:0
CREATED:20260423T091103
LAST-MODIFIED:20260423T091103
TRANSP:OPAQUE
DTEND:20260703T233000
LOCATION:Dachtheater
SUMMARY:Tango Tage Muri
CLASS:PUBLIC
DESCRIPTION:
ORGANIZER:
DTSTAMP:20260425T012056
ATTACH:https://www.hinto.ch/de/events/tango-tage-muri-03-07-2026-1800-dachtheater-muri-ag-e2857378-20.html
END:VEVENT
END:VCALENDAR
