BEGIN:VCALENDAR
VERSION:2.0
PRODID:hinto.net
X-PUBLISHED-TTL:P1W
BEGIN:VEVENT
UID:hinto.net-event_show-6933110
DTSTART:20260620T210000
SEQUENCE:0
CREATED:20260422T051744
LAST-MODIFIED:20260422T051744
TRANSP:OPAQUE

LOCATION:Atlantis
SUMMARY:Tanznacht40
CLASS:PUBLIC
DESCRIPTION:
ORGANIZER:
DTSTAMP:20260424T132536
ATTACH:https://www.hinto.ch/de/events/tanznacht40-20-06-2026-2100-atlantis-basel-e125678-20.html
END:VEVENT
END:VCALENDAR
