BEGIN:VCALENDAR
VERSION:2.0
PRODID:hinto.net
X-PUBLISHED-TTL:P1W
BEGIN:VEVENT
UID:hinto.net-event_show-6802857
DTSTART:20260425T223000
SEQUENCE:0
CREATED:20260311T050406
LAST-MODIFIED:20260311T050406
TRANSP:OPAQUE
DTEND:20260426T015900
LOCATION:Tanzlounge
SUMMARY:Tanznacht40
CLASS:PUBLIC
DESCRIPTION:
ORGANIZER:
DTSTAMP:20260424T152749
ATTACH:https://www.hinto.ch/de/events/tanznacht40-25-04-2026-2230-tanzlounge-bern-e729833-20.html
END:VEVENT
END:VCALENDAR
