BEGIN:VCALENDAR
VERSION:2.0
PRODID:hinto.net
X-PUBLISHED-TTL:P1W
BEGIN:VEVENT
UID:hinto.net-event_show-6863148
DTSTART:20260419T200000
SEQUENCE:0
CREATED:20260419T134829
LAST-MODIFIED:20260419T134829
TRANSP:OPAQUE
DTEND:20260419T202000
LOCATION:
SUMMARY:Tele 1: Nachrichten
CLASS:PUBLIC
DESCRIPTION:
ORGANIZER:
DTSTAMP:20260420T083359
ATTACH:https://www.hinto.ch/de/events/tele-1-nachrichten-19-04-2026-2000-e2793764-20.html
END:VEVENT
END:VCALENDAR
