BEGIN:VCALENDAR
VERSION:2.0
PRODID:hinto.net
X-PUBLISHED-TTL:P1W
BEGIN:VEVENT
UID:hinto.net-event_show-6863364
DTSTART:20260419T192000
SEQUENCE:0
CREATED:20260329T154255
LAST-MODIFIED:20260329T154255
TRANSP:OPAQUE
DTEND:20260419T195000
LOCATION:
SUMMARY:Tele Bärn: Bärner Rundi
CLASS:PUBLIC
DESCRIPTION:
ORGANIZER:
DTSTAMP:20260420T071519
ATTACH:https://www.hinto.ch/de/events/tele-baern-baerner-rundi-19-04-2026-1920-e2793980-20.html
END:VEVENT
END:VCALENDAR
