BEGIN:VCALENDAR
VERSION:2.0
PRODID:hinto.net
X-PUBLISHED-TTL:P1W
BEGIN:VEVENT
UID:hinto.net-event_show-6857108
DTSTART:20260417T180000
SEQUENCE:0
CREATED:20260327T235236
LAST-MODIFIED:20260327T235236
TRANSP:OPAQUE
DTEND:20260417T182000
LOCATION:
SUMMARY:Tele Bärn: TeleBärn News
CLASS:PUBLIC
DESCRIPTION:
ORGANIZER:
DTSTAMP:20260420T000450
ATTACH:https://www.hinto.ch/de/events/tele-baern-telebaern-news-17-04-2026-1800-e2788287-20.html
END:VEVENT
END:VCALENDAR
