BEGIN:VCALENDAR
VERSION:2.0
PRODID:hinto.net
X-PUBLISHED-TTL:P1W
BEGIN:VEVENT
UID:hinto.net-event_show-6863539
DTSTART:20260419T190000
SEQUENCE:0
CREATED:20260329T154822
LAST-MODIFIED:20260329T154822
TRANSP:OPAQUE
DTEND:20260419T193000
LOCATION:
SUMMARY:Tele Südostschweiz: Caffè Todisco
CLASS:PUBLIC
DESCRIPTION:
ORGANIZER:
DTSTAMP:20260420T081725
ATTACH:https://www.hinto.ch/de/events/tele-suedostschweiz-caffe-todisco-19-04-2026-1900-e2794155-20.html
END:VEVENT
END:VCALENDAR
