BEGIN:VCALENDAR
VERSION:2.0
PRODID:hinto.net
X-PUBLISHED-TTL:P1W
BEGIN:VEVENT
UID:hinto.net-event_show-6863605
DTSTART:20260419T201600
SEQUENCE:0
CREATED:20260329T155100
LAST-MODIFIED:20260329T155100
TRANSP:OPAQUE
DTEND:20260419T210000
LOCATION:
SUMMARY:Tele Top: Kmu-date
CLASS:PUBLIC
DESCRIPTION:
ORGANIZER:
DTSTAMP:20260420T063936
ATTACH:https://www.hinto.ch/de/events/tele-top-kmu-date-19-04-2026-2016-e2794221-20.html
END:VEVENT
END:VCALENDAR
