BEGIN:VCALENDAR
VERSION:2.0
PRODID:hinto.net
X-PUBLISHED-TTL:P1W
BEGIN:VEVENT
UID:hinto.net-event_show-6863046
DTSTART:20260419T120000
SEQUENCE:0
CREATED:20260409T162008
LAST-MODIFIED:20260409T162008
TRANSP:OPAQUE
DTEND:20260419T121500
LOCATION:
SUMMARY:Tele Züri: ZüriNews
CLASS:PUBLIC
DESCRIPTION:
ORGANIZER:
DTSTAMP:20260424T054117
ATTACH:https://www.hinto.ch/de/events/tele-zueri-zuerinews-19-04-2026-1200-e2793662-20.html
END:VEVENT
END:VCALENDAR
