BEGIN:VCALENDAR
VERSION:2.0
PRODID:hinto.net
X-PUBLISHED-TTL:P1W
BEGIN:VEVENT
UID:hinto.net-event_show-6904438
DTSTART:20260522T200000
SEQUENCE:0
CREATED:20260412T054313
LAST-MODIFIED:20260412T054313
TRANSP:OPAQUE

LOCATION:Z7
SUMMARY:The Gathering
CLASS:PUBLIC
DESCRIPTION:
ORGANIZER:
DTSTAMP:20260419T210144
ATTACH:https://www.hinto.ch/de/events/the-gathering-22-05-2026-2000-z7-prattelen-e2829472-20.html
END:VEVENT
END:VCALENDAR
