BEGIN:VCALENDAR
VERSION:2.0
PRODID:hinto.net
X-PUBLISHED-TTL:P1W
BEGIN:VEVENT
UID:hinto.net-event_show-6924869
DTSTART:20260512T200000
SEQUENCE:0
CREATED:20260419T051916
LAST-MODIFIED:20260419T051916
TRANSP:OPAQUE

LOCATION:Campo Al Ponte
SUMMARY:The Pentagram String Band
CLASS:PUBLIC
DESCRIPTION:
ORGANIZER:
DTSTAMP:20260419T213646
ATTACH:https://www.hinto.ch/de/events/the-pentagram-string-band-12-05-2026-2000-campo-al-ponte-claro-e2847177-20.html
END:VEVENT
END:VCALENDAR
