BEGIN:VCALENDAR
VERSION:2.0
PRODID:hinto.net
X-PUBLISHED-TTL:P1W
BEGIN:VEVENT
UID:hinto.net-event_show-6442999
DTSTART:20260514T143000
SEQUENCE:0
CREATED:20251114T123144
LAST-MODIFIED:20251114T123144
TRANSP:OPAQUE
DTEND:20260514T163000
LOCATION:Kunstmuseum St.Gallen
SUMMARY:TiM Café
CLASS:PUBLIC
DESCRIPTION:
ORGANIZER:
DTSTAMP:20260424T145929
ATTACH:https://www.hinto.ch/de/events/tim-cafe-14-05-2026-1430-kunstmuseum-st-gallen-st-gallen-e2442972-20.html
END:VEVENT
END:VCALENDAR
