BEGIN:VCALENDAR
VERSION:2.0
PRODID:hinto.net
X-PUBLISHED-TTL:P1W
BEGIN:VEVENT
UID:hinto.net-event_show-6907115
DTSTART:20261205T203000
SEQUENCE:0
CREATED:20260413T063656
LAST-MODIFIED:20260413T063656
TRANSP:OPAQUE

LOCATION:Moods
SUMMARY:Tony Momrelle
CLASS:PUBLIC
DESCRIPTION:
ORGANIZER:
DTSTAMP:20260421T061246
ATTACH:https://www.hinto.ch/de/events/tony-momrelle-05-12-2026-2030-moods-zuerich-e2831988-20.html
END:VEVENT
END:VCALENDAR
