BEGIN:VCALENDAR
VERSION:2.0
PRODID:hinto.net
X-PUBLISHED-TTL:P1W
BEGIN:VEVENT
UID:hinto.net-event_show-6857030
DTSTART:20260417T180000
SEQUENCE:0
CREATED:20260409T160945
LAST-MODIFIED:20260409T160945
TRANSP:OPAQUE
DTEND:20260417T181700
LOCATION:
SUMMARY:TVO Tele Ostschweiz: Aktuell
CLASS:PUBLIC
DESCRIPTION:
ORGANIZER:
DTSTAMP:20260420T194025
ATTACH:https://www.hinto.ch/de/events/tvo-tele-ostschweiz-aktuell-17-04-2026-1800-e2788209-20.html
END:VEVENT
END:VCALENDAR
