BEGIN:VCALENDAR
VERSION:2.0
PRODID:hinto.net
X-PUBLISHED-TTL:P1W
BEGIN:VEVENT
UID:hinto.net-event_show-6863266
DTSTART:20260419T120000
SEQUENCE:0
CREATED:20260418T065102
LAST-MODIFIED:20260418T065102
TRANSP:OPAQUE
DTEND:20260419T120600
LOCATION:
SUMMARY:TVO Tele Ostschweiz: Geld und Vorsorge
CLASS:PUBLIC
DESCRIPTION:
ORGANIZER:
DTSTAMP:20260424T172602
ATTACH:https://www.hinto.ch/de/events/tvo-tele-ostschweiz-geld-und-vorsorge-19-04-2026-1200-e2793882-20.html
END:VEVENT
END:VCALENDAR
