BEGIN:VCALENDAR
VERSION:2.0
PRODID:hinto.net
X-PUBLISHED-TTL:P1W
BEGIN:VEVENT
UID:hinto.net-event_show-6922465
DTSTART:20260419T120600
SEQUENCE:0
CREATED:20260419T150302
LAST-MODIFIED:20260419T150302
TRANSP:OPAQUE
DTEND:20260419T122600
LOCATION:
SUMMARY:TVO Tele Ostschweiz: LifeStyle
CLASS:PUBLIC
DESCRIPTION:
ORGANIZER:
DTSTAMP:20260421T034456
ATTACH:https://www.hinto.ch/de/events/tvo-tele-ostschweiz-lifestyle-19-04-2026-1206-e2844992-20.html
END:VEVENT
END:VCALENDAR
