BEGIN:VCALENDAR
VERSION:2.0
PRODID:hinto.net
X-PUBLISHED-TTL:P1W
BEGIN:VEVENT
UID:hinto.net-event_show-6925906
DTSTART:20260419T192000
SEQUENCE:0
CREATED:20260419T150959
LAST-MODIFIED:20260419T150959
TRANSP:OPAQUE
DTEND:20260419T195800
LOCATION:
SUMMARY:TVO Tele Ostschweiz: Sonntalk
CLASS:PUBLIC
DESCRIPTION:
ORGANIZER:
DTSTAMP:20260420T155108
ATTACH:https://www.hinto.ch/de/events/tvo-tele-ostschweiz-sonntalk-19-04-2026-1920-e2847846-20.html
END:VEVENT
END:VCALENDAR
