BEGIN:VCALENDAR
VERSION:2.0
PRODID:hinto.net
X-PUBLISHED-TTL:P1W
BEGIN:VEVENT
UID:hinto.net-event_show-6925908
DTSTART:20260419T202000
SEQUENCE:0
CREATED:20260419T151000
LAST-MODIFIED:20260419T151000
TRANSP:OPAQUE
DTEND:20260419T205800
LOCATION:
SUMMARY:TVO Tele Ostschweiz: Sonntalk
CLASS:PUBLIC
DESCRIPTION:
ORGANIZER:
DTSTAMP:20260420T231139
ATTACH:https://www.hinto.ch/de/events/tvo-tele-ostschweiz-sonntalk-19-04-2026-2020-e2847848-20.html
END:VEVENT
END:VCALENDAR
