BEGIN:VCALENDAR
VERSION:2.0
PRODID:hinto.net
X-PUBLISHED-TTL:P1W
BEGIN:VEVENT
UID:hinto.net-event_show-6931034
DTSTART:20260525T100000
SEQUENCE:0
CREATED:20260421T150915
LAST-MODIFIED:20260421T150915
TRANSP:OPAQUE
DTEND:20260525T120000
LOCATION:Dock8
SUMMARY:Veloausflug am Pfingstmontag
CLASS:PUBLIC
DESCRIPTION:
ORGANIZER:
DTSTAMP:20260424T173851
ATTACH:https://www.hinto.ch/de/events/veloausflug-am-pfingstmontag-25-05-2026-1000-dock8-bern-e2852339-20.html
END:VEVENT
END:VCALENDAR
