BEGIN:VCALENDAR
VERSION:2.0
PRODID:hinto.net
X-PUBLISHED-TTL:P1W
BEGIN:VEVENT
UID:hinto.net-event_show-6822886
DTSTART:20260417T183000
SEQUENCE:0
CREATED:20260316T102859
LAST-MODIFIED:20260316T102859
TRANSP:OPAQUE
DTEND:20260417T210000
LOCATION:Kunstmuseum Basel | Hauptbau
SUMMARY:Vernissage: «Helen Frankenthaler»
CLASS:PUBLIC
DESCRIPTION:
ORGANIZER:
DTSTAMP:20260424T042337
ATTACH:https://www.hinto.ch/de/events/vernissage-lhelen-frankenthalerr-17-04-2026-1830-kunstmuseum-basel-hauptbau-basel-e2760425-20.html
END:VEVENT
END:VCALENDAR
