BEGIN:VCALENDAR
VERSION:2.0
PRODID:hinto.net
X-PUBLISHED-TTL:P1W
BEGIN:VEVENT
UID:hinto.net-event_show-6844584
DTSTART:20260625T190000
SEQUENCE:0
CREATED:20260324T034337
LAST-MODIFIED:20260324T034337
TRANSP:OPAQUE
DTEND:20260625T203000
LOCATION:Komturei Tobel
SUMMARY:Walk&Talk 1&2
CLASS:PUBLIC
DESCRIPTION:
ORGANIZER:
DTSTAMP:20260419T214801
ATTACH:https://www.hinto.ch/de/events/walktalk-12-25-06-2026-1900-komturei-tobel-tobel-e2778111-20.html
END:VEVENT
END:VCALENDAR
