BEGIN:VCALENDAR
VERSION:2.0
PRODID:hinto.net
X-PUBLISHED-TTL:P1W
BEGIN:VEVENT
UID:hinto.net-event_show-6785541
DTSTART:20270203T183000
SEQUENCE:0
CREATED:20260309T033221
LAST-MODIFIED:20260309T033221
TRANSP:OPAQUE

LOCATION:Hofplatz
SUMMARY:Wiler Gümpelimittwoch
CLASS:PUBLIC
DESCRIPTION:
ORGANIZER:
DTSTAMP:20260421T074235
ATTACH:https://www.hinto.ch/de/events/wiler-guempelimittwoch-03-02-2027-1830-hofplatz-wil-e2740049-20.html
END:VEVENT
END:VCALENDAR
