BEGIN:VCALENDAR
VERSION:2.0
PRODID:hinto.net
X-PUBLISHED-TTL:P1W
BEGIN:VEVENT
UID:hinto.net-event_show-6148824
DTSTART:20260520T150000
SEQUENCE:0
CREATED:20250809T052415
LAST-MODIFIED:20250809T052415
TRANSP:OPAQUE
DTEND:20260520T155000
LOCATION:Bühne Aarau
SUMMARY:Wir sind dann mal weg
CLASS:PUBLIC
DESCRIPTION:
ORGANIZER:
DTSTAMP:20260424T061440
ATTACH:https://www.hinto.ch/de/events/wir-sind-dann-mal-weg-20-05-2026-1500-buehne-aarau-aarau-e2194449-20.html
END:VEVENT
END:VCALENDAR
